Workbook

Sheet Google Financial Statements
A1: Alphabet Inc. (GOOGL) | H1: Monthly Prices
A2: Income Statement | H2: Date | I2: Adj Close** | J2: Return
H3: 43617 | I3: 1125.37 | J3: =I3/I4-1 -> 0.017053773
A4: All numbers in thousands | B4: 43465 | C4: 43100 | D4: 42735 | E4: 42369 | H4: 43586 | I4: 1106.5 | J4: =I4/I5-1 -> -0.077116835
A5: Total Revenue | B5: 136819000 | C5: 110855000 | D5: 90272000 | E5: 74989000 | H5: 43556 | I5: 1198.96 | J5: =I5/I6-1 -> 0.018752815
A6: Cost of Revenue | B6: 59549000 | C6: 45583000 | D6: 35138000 | E6: 28164000 | H6: 43525 | I6: 1176.89 | J6: =I6/I7-1 -> 0.044685101
A7: Gross Profit | B7: =B5-B6 -> 77270000 | C7: =C5-C6 -> 65272000 | D7: =D5-D6 -> 55134000 | E7: =E5-E6 -> 46825000 | H7: 43497 | I7: 1126.55 | J7: =I7/I8-1 -> 0.00058620292
A8: Operating Expenses | H8: 43466 | I8: 1125.89 | J8: =I8/I9-1 -> 0.077447941
A9: Research Development | B9: 21419000 | C9: 16625000 | D9: 13948000 | E9: 12282000 | H9: 43435 | I9: 1044.96 | J9: =I9/I10-1 -> -0.058297661 | K9: =AVERAGE(I9:I20) -> 1123.5283
A10: Selling General and Administrative | B10: 24459000 | C10: 19765000 | D10: 17470000 | E10: 15183000 | H10: 43405 | I10: 1109.65 | J10: =I10/I11-1 -> 0.017486108
A11: Non Recurring | B11: 0 | C11: 0 | D11: 0 | E11: 0 | H11: 43374 | I11: 1090.58 | J11: =I11/I12-1 -> -0.096513901
A12: Others | B12: 0 | C12: 0 | D12: 0 | E12: 0 | G12: =B13-B10-B9 -> 0 | H12: 43344 | I12: 1207.08 | J12: =I12/I13-1 -> -0.020068193
A13: Total Operating Expenses | B13: =SUM(B9:B12) -> 45878000 | C13: =SUM(C9:C12) -> 36390000 | D13: =SUM(D9:D12) -> 31418000 | E13: =SUM(E9:E12) -> 27465000 | H13: 43313 | I13: 1231.8 | J13: =I13/I14-1 -> 0.0037320122
A14: Operating Income or Loss | B14: =B7-B13 -> 31392000 | C14: =C7-C13 -> 28882000 | D14: =D7-D13 -> 23716000 | E14: =E7-E13 -> 19360000 | H14: 43282 | I14: 1227.22 | J14: =I14/I15-1 -> 0.086814442
A15: Income from Continuing Operations | H15: 43252 | I15: 1129.19 | J15: =I15/I16-1 -> 0.026536364
A16: Total Other Income/Expenses Net | B16: 3521000 | C16: -1689000 | D16: 434000 | E16: 291000 | H16: 43221 | I16: 1100 | J16: =I16/I17-1 -> 0.079934811
A17: Earnings Before Interest and Taxes | B17: 31392000 | C17: 28882000 | D17: 23716000 | E17: 19360000 | H17: 43191 | I17: 1018.58 | J17: =I17/I18-1 -> -0.017895366
A18: Interest Expense | B18: -114000 | C18: -109000 | D18: -124000 | E18: -104000 | H18: 43160 | I18: 1037.14 | J18: =I18/I19-1 -> -0.060493514
A19: Income Before Tax | B19: 34913000 | C19: 27193000 | D19: 24150000 | E19: 19651000 | H19: 43132 | I19: 1103.92 | J19: =I19/I20-1 -> -0.066231328
A20: Income Tax Expense | B20: 4177000 | C20: 14531000 | D20: 4672000 | E20: 3303000 | H20: 43101 | I20: 1182.22 | J20: =I20/I21-1 -> 0.12228973
A21: Minority Interest | H21: 43070 | I21: 1053.4 | J21: =I21/I22-1 -> 0.016628546 | K21: =AVERAGE(I21:I32) -> 945.02583
A22: Net Income From Continuing Ops | B22: 30736000 | C22: 12662000 | D22: 19478000 | E22: 16348000 | H22: 43040 | I22: 1036.17 | J22: =I22/I23-1 -> 0.0030298924
A23: Non-recurring Events | H23: 43009 | I23: 1033.04 | J23: =I23/I24-1 -> 0.060921004
A24: Discontinued Operations | B24: 0 | C24: 0 | D24: 0 | E24: 0 | H24: 42979 | I24: 973.72 | J24: =I24/I25-1 -> 0.031188114
A25: Extraordinary Items | B25: 0 | C25: 0 | D25: 0 | E25: 0 | H25: 42948 | I25: 944.27 | J25: =I25/I26-1 -> -0.001300899
A26: Effect Of Accounting Changes | B26: 0 | C26: 0 | D26: 0 | E26: 0 | H26: 42917 | I26: 945.5 | J26: =I26/I27-1 -> 0.017016608
A27: Other Items | B27: 0 | C27: 0 | D27: 0 | E27: 0 | H27: 42887 | I27: 929.68 | J27: =I27/I28-1 -> -0.058160857
A28: Net Income | H28: 42856 | I28: 987.09 | J28: =I28/I29-1 -> 0.067678363
A29: Net Income | B29: 30736000 | C29: 12662000 | D29: 19478000 | E29: 16348000 | H29: 42826 | I29: 924.52 | J29: =I29/I30-1 -> 0.090493041
A30: Preferred Stock And Other Adjustments | B30: 0 | C30: 0 | D30: 0 | E30: 0 | H30: 42795 | I30: 847.8 | J30: =I30/I31-1 -> 0.0033967311
A31: Net Income Applicable To Common Shares | B31: 30736000 | C31: 12662000 | D31: 19478000 | E31: 16348000 | H31: 42767 | I31: 844.93 | J31: =I31/I32-1 -> 0.030163743
A32: Average price | B32: 1123.5283 | C32: 945.02583 | D32: 765.18417 | H32: 42736 | I32: 820.19 | J32: =I32/I33-1 -> 0.013268269
A33: EPS | B33: 43.7 | C33: 18 | D33: 27.85 | E33: 22.84 | H33: 42705 | I33: 809.45 | J33: =I33/I34-1 -> 0.043267 | K33: =AVERAGE(I33:I44) -> 765.18417
H34: 42675 | I34: 775.88 | J34: =I34/I35-1 -> -0.042005186
A35: Balance Sheet | H35: 42644 | I35: 809.9 | J35: =I35/I36-1 -> 0.0072631396
A36: All numbers in thousands | B36: 43465 | C36: 43100 | D36: 42735 | E36: 42369 | H36: 42614 | I36: 804.06 | J36: =I36/I37-1 -> 0.017990758
A37: Current Assets | H37: 42583 | I37: 789.85 | J37: =I37/I38-1 -> -0.0018828822
A38: Cash And Cash Equivalents | B38: 16701000 | C38: 10715000 | D38: 12918000 | E38: 15409000 | H38: 42552 | I38: 791.34 | J38: =I38/I39-1 -> 0.12481344
A39: Short Term Investments | B39: 92439000 | C39: 91156000 | D39: 73415000 | E39: 56517000 | H39: 42522 | I39: 703.53 | J39: Mean | K39: =AVERAGE(J3:J38) -> 0.014513092
A40: Net Receivables | B40: 21193000 | C40: 18705000 | D40: 15632000 | E40: 13459000 | H40: 42491 | I40: 748.85 | J40: Standard deviation | K40: =_xlfn.STDEV.S(J3:J38) -> 0.053584375
...

Sheet FB Financial Statements
A1: Facebook, Inc. (FB) | H1: Monthly prices
A2: Income Statement | H2: Date | I2: Adj Close** | J2: Return
A3: All numbers in thousands | H3: 43617 | I3: 191.14 | J3: =I3/I4-1 -> 0.077027103
A4: Revenue | B4: 43465 | C4: 43100 | D4: 42735 | E4: 42369 | H4: 43586 | I4: 177.47 | J4: =I4/I5-1 -> -0.082368149
A5: Total Revenue | B5: 55838000 | C5: 40653000 | D5: 27638000 | E5: 17928000 | H5: 43556 | I5: 193.4 | J5: =I5/I6-1 -> 0.16023757
A6: Cost of Revenue | B6: 9355000 | C6: 5454000 | D6: 3789000 | E6: 2867000 | H6: 43525 | I6: 166.69 | J6: =I6/I7-1 -> 0.032455869
A7: Gross Profit | B7: =B5-B6 -> 46483000 | C7: =C5-C6 -> 35199000 | D7: =D5-D6 -> 23849000 | E7: =E5-E6 -> 15061000 | H7: 43497 | I7: 161.45 | J7: =I7/I8-1 -> -0.031435599
A8: Operating Expenses | H8: 43466 | I8: 166.69 | J8: =I8/I9-1 -> 0.27156915
A9: Research Development | B9: 10273000 | C9: 7754000 | D9: 5919000 | E9: 4816000 | H9: 43435 | I9: 131.09 | J9: =I9/I10-1 -> -0.067705 | K9: =AVERAGE(I9:I20) -> 168.28
A10: Selling General and Administrative | B10: 11297000 | C10: 7242000 | D10: 5503000 | E10: 4020000 | H10: 43405 | I10: 140.61 | J10: =I10/I11-1 -> -0.073654391
A11: Non Recurring | B11: 0 | C11: 0 | D11: 0 | E11: 0 | H11: 43374 | I11: 151.79 | J11: =I11/I12-1 -> -0.07704001
A12: Others | B12: 0 | C12: 0 | D12: 0 | E12: 0 | H12: 43344 | I12: 164.46 | J12: =I12/I13-1 -> -0.064132476
A13: Total Operating Expenses | B13: =B9+B10+B11+B12 -> 21570000 | C13: =C9+C10+C11+C12 -> 14996000 | D13: =D9+D10+D11+D12 -> 11422000 | E13: =E9+E10+E11+E12 -> 8836000 | H13: 43313 | I13: 175.73 | J13: =I13/I14-1 -> 0.018252405
A14: Operating Income or Loss | B14: =B7-B13 -> 24913000 | C14: =C7-C13 -> 20203000 | D14: =D7-D13 -> 12427000 | E14: =E7-E13 -> 6225000 | H14: 43282 | I14: 172.58 | J14: =I14/I15-1 -> -0.11187732
A15: Income from Continuing Operations | H15: 43252 | I15: 194.32 | J15: =I15/I16-1 -> 0.013244342
A16: Total Other Income/Expenses Net | B16: 448000 | C16: 391000 | D16: 91000 | E16: -31000 | H16: 43221 | I16: 191.78 | J16: =I16/I17-1 -> 0.115
A17: Earnings Before Interest and Taxes | B17: 24913000 | C17: 20203000 | D17: 12427000 | E17: 6225000 | H17: 43191 | I17: 172 | J17: =I17/I18-1 -> 0.076412792
A18: Interest Expense | B18: -9000 | C18: -6000 | D18: -10000 | E18: -23000 | H18: 43160 | I18: 159.79 | J18: =I18/I19-1 -> -0.10391431
A19: Income Before Tax | B19: 25361000 | C19: 20594000 | D19: 12518000 | E19: 6194000 | H19: 43132 | I19: 178.32 | J19: =I19/I20-1 -> -0.045855851
A20: Income Tax Expense | B20: 3249000 | C20: 4660000 | D20: 2301000 | E20: 2506000 | H20: 43101 | I20: 186.89 | J20: =I20/I21-1 -> 0.05910688
A21: Minority Interest | B21: 0 | C21: 0 | D21: 0 | E21: 0 | H21: 43070 | I21: 176.46 | J21: =I21/I22-1 -> -0.0040636641 | K21: =AVERAGE(I21:I32) -> 158.86583
A22: Net Income From Continuing Ops | B22: 22112000 | C22: 15934000 | D22: 10217000 | E22: 3688000 | H22: 43040 | I22: 177.18 | J22: =I22/I23-1 -> -0.015994668
A23: Non-recurring Events | H23: 43009 | I23: 180.06 | J23: =I23/I24-1 -> 0.053783578
A24: Discontinued Operations | B24: 0 | C24: 0 | D24: 0 | E24: 0 | H24: 42979 | I24: 170.87 | J24: =I24/I25-1 -> -0.0063964645
A25: Extraordinary Items | B25: 0 | C25: 0 | D25: 0 | E25: 0 | H25: 42948 | I25: 171.97 | J25: =I25/I26-1 -> 0.016070901
A26: Effect Of Accounting Changes | B26: 0 | C26: 0 | D26: 0 | E26: 0 | H26: 42917 | I26: 169.25 | J26: =I26/I27-1 -> 0.12100941
A27: Other Items | B27: 0 | C27: 0 | D27: 0 | E27: 0 | H27: 42887 | I27: 150.98 | J27: =I27/I28-1 -> -0.0031691536
A28: Net Income | H28: 42856 | I28: 151.46 | J28: =I28/I29-1 -> 0.0080532446
A29: Net Income | B29: 22112000 | C29: 15934000 | D29: 10217000 | E29: 3688000 | H29: 42826 | I29: 150.25 | J29: =I29/I30-1 -> 0.057726153
A30: Preferred Stock And Other Adjustments | B30: 0 | C30: 0 | D30: 0 | E30: 0 | H30: 42795 | I30: 142.05 | J30: =I30/I31-1 -> 0.048030102
A31: Net Income Applicable To Common Shares | B31: 22111000 | C31: 15920000 | D31: 10188000 | E31: 3669000 | H31: 42767 | I31: 135.54 | J31: =I31/I32-1 -> 0.040055249
A32: Average price | B32: 168.28 | C32: 158.86583 | D32: 118.89083 | H32: 42736 | I32: 130.32 | J32: =I32/I33-1 -> 0.1327249
A33: EPS | B33: 7.57 | C33: 5.39 | D33: 3.49 | E33: 1.29 | H33: 42705 | I33: 115.05 | J33: =I33/I34-1 -> -0.028458031 | K33: =AVERAGE(I33:I44) -> 118.89083
H34: 42675 | I34: 118.42 | J34: =I34/I35-1 -> -0.095961524
H35: 42644 | I35: 130.99 | J35: =I35/I36-1 -> 0.02120527
A36: Balance Sheet | H36: 42614 | I36: 128.27 | J36: =I36/I37-1 -> 0.017047257
A37: All numbers in thousands | H37: 42583 | I37: 126.12 | J37: =I37/I38-1 -> 0.017589156
A38: Period Ending | B38: 43465 | C38: 43100 | D38: 42735 | E38: 42369 | H38: 42552 | I38: 123.94 | J38: =I38/I39-1 -> 0.084529226
A39: Current Assets | H39: 42522 | I39: 114.28 | J39: Mean | K39: =AVERAGE(J3:J38) -> 0.01747511
A40: Cash And Cash Equivalents | B40: 10019000 | C40: 8079000 | D40: 8903000 | E40: 4907000 | H40: 42491 | I40: 118.81 | J40: Standard deviation | K40: =_xlfn.STDEV.S(J3:J38) -> 0.081589102
...

Sheet Finaancial ratios
B1: GOOGL | F1: FB
B2: 43465 | C2: 43100 | D2: 42735 | F2: 43465 | G2: 43100 | H2: 42735
A3: Price-to-earnings ratio | B3: ='Google Financial Statements'!B32/'Google Financial Statements'!B33 -> 25.710031 | C3: ='Google Financial Statements'!C32/'Google Financial Statements'!C33 -> 52.501435 | D3: ='Google Financial Statements'!D32/'Google Financial Statements'!D33 -> 27.475194 | F3: ='FB Financial Statements'!B32/'FB Financial Statements'!B33 -> 22.229855 | G3: ='FB Financial Statements'!C32/'FB Financial Statements'!C33 -> 29.474181 | H3: ='FB Financial Statements'!D32/'FB Financial Statements'!D33 -> 34.066141
A4: Debt-to-equity ratios | B4: ='Google Financial Statements'!B62/'Google Financial Statements'!B72 -> 0.31055915 | C4: ='Google Financial Statements'!C62/'Google Financial Statements'!C72 -> 0.29372074 | D4: ='Google Financial Statements'!D62/'Google Financial Statements'!D72 -> 0.20470238 | F4: ='FB Financial Statements'!B64/'FB Financial Statements'!B74 -> 0.15698884 | G4: ='FB Financial Statements'!C64/'FB Financial Statements'!C74 -> 0.13688515 | H4: ='FB Financial Statements'!D64/'FB Financial Statements'!D74 -> 0.097425415
A5: Return-on-equity ratios | B5: ='Google Financial Statements'!B29/(('Google Financial Statements'!B72+'Google Financial Statements'!C72)/2) -> 0.18620543 | C5: ='Google Financial Statements'!C29/(('Google Financial Statements'!C72+'Google Financial Statements'!D72)/2) -> 0.086863462 | D5: ='Google Financial Statements'!D29/(('Google Financial Statements'!D72+'Google Financial Statements'!E72)/2) -> 0.15019644 | F5: ='FB Financial Statements'!B29/(('FB Financial Statements'!B74+'FB Financial Statements'!C74)/2) -> 0.27906155 | G5: ='FB Financial Statements'!C29/(('FB Financial Statements'!C74+'FB Financial Statements'!D74)/2) -> 0.23863832 | H5: ='FB Financial Statements'!D29/(('FB Financial Statements'!D74+'FB Financial Statements'!E74)/2) -> 0.19759796
A6: Earnings per share | B6: ='Google Financial Statements'!B33 -> 43.7 | C6: ='Google Financial Statements'!C33 -> 18 | D6: ='Google Financial Statements'!D33 -> 27.85 | F6: ='FB Financial Statements'!B33 -> 7.57 | G6: ='FB Financial Statements'!C33 -> 5.39 | H6: ='FB Financial Statements'!D33 -> 3.49
A7: Profit margins | B7: ='Google Financial Statements'!B29/'Google Financial Statements'!B5 -> 0.22464716 | C7: ='Google Financial Statements'!C29/'Google Financial Statements'!C5 -> 0.11422128 | D7: ='Google Financial Statements'!D29/'Google Financial Statements'!D5 -> 0.21577012 | F7: ='FB Financial Statements'!B29/'FB Financial Statements'!B5 -> 0.39600272 | G7: ='FB Financial Statements'!C29/'FB Financial Statements'!C5 -> 0.39195139 | H7: ='FB Financial Statements'!D29/'FB Financial Statements'!D5 -> 0.36967219
A8: Free cash flows | B8: ='Google Financial Statements'!B87+'Google Financial Statements'!B89 -> 22832000 | C8: ='Google Financial Statements'!C87+'Google Financial Statements'!C89 -> 23907000 | D8: ='Google Financial Statements'!D87+'Google Financial Statements'!D89 -> 25824000 | F8: ='FB Financial Statements'!B89+'FB Financial Statements'!B91 -> 15359000 | G8: ='FB Financial Statements'!C89+'FB Financial Statements'!C91 -> 17483000 | H8: ='FB Financial Statements'!D89+'FB Financial Statements'!D91 -> 11617000
B10: industry
A11: P/E Ratio (TTM) | B11: 38.49
A12: Total Debt to Equity (MRQ) | B12: 41.17
A13: Return on Equity - 5 Yr. Avg.(%) | B13: 18.4
A14: Net Profit Margin - 5 Yr. Avg. | B14: 18.73
A16: MRQ = Most Recent Quarter
A17: TTM = Trailing Twelve Months
A18: MRFY = Most Recent Fiscal Year
